BEGIN:VCALENDAR
VERSION:2.0
PRODID:-//The Graham Family - ECPv6.15.1.1//NONSGML v1.0//EN
CALSCALE:GREGORIAN
METHOD:PUBLISH
X-ORIGINAL-URL:https://blestbethegrahams.com
X-WR-CALDESC:Events for The Graham Family
REFRESH-INTERVAL;VALUE=DURATION:PT1H
X-Robots-Tag:noindex
X-PUBLISHED-TTL:PT1H
BEGIN:VTIMEZONE
TZID:America/Chicago
BEGIN:DAYLIGHT
TZOFFSETFROM:-0600
TZOFFSETTO:-0500
TZNAME:CDT
DTSTART:20180311T080000
END:DAYLIGHT
BEGIN:STANDARD
TZOFFSETFROM:-0500
TZOFFSETTO:-0600
TZNAME:CST
DTSTART:20181104T070000
END:STANDARD
BEGIN:DAYLIGHT
TZOFFSETFROM:-0600
TZOFFSETTO:-0500
TZNAME:CDT
DTSTART:20190310T080000
END:DAYLIGHT
BEGIN:STANDARD
TZOFFSETFROM:-0500
TZOFFSETTO:-0600
TZNAME:CST
DTSTART:20191103T070000
END:STANDARD
BEGIN:DAYLIGHT
TZOFFSETFROM:-0600
TZOFFSETTO:-0500
TZNAME:CDT
DTSTART:20200308T080000
END:DAYLIGHT
BEGIN:STANDARD
TZOFFSETFROM:-0500
TZOFFSETTO:-0600
TZNAME:CST
DTSTART:20201101T070000
END:STANDARD
BEGIN:DAYLIGHT
TZOFFSETFROM:-0600
TZOFFSETTO:-0500
TZNAME:CDT
DTSTART:20210314T080000
END:DAYLIGHT
BEGIN:STANDARD
TZOFFSETFROM:-0500
TZOFFSETTO:-0600
TZNAME:CST
DTSTART:20211107T070000
END:STANDARD
BEGIN:DAYLIGHT
TZOFFSETFROM:-0600
TZOFFSETTO:-0500
TZNAME:CDT
DTSTART:20220313T080000
END:DAYLIGHT
BEGIN:STANDARD
TZOFFSETFROM:-0500
TZOFFSETTO:-0600
TZNAME:CST
DTSTART:20221106T070000
END:STANDARD
END:VTIMEZONE
BEGIN:VTIMEZONE
TZID:UTC
BEGIN:STANDARD
TZOFFSETFROM:+0000
TZOFFSETTO:+0000
TZNAME:UTC
DTSTART:20160101T000000
END:STANDARD
END:VTIMEZONE
BEGIN:VEVENT
DTSTART;VALUE=DATE:20220722
DTEND;VALUE=DATE:20220725
DTSTAMP:20260423T142221
CREATED:20220128T153702Z
LAST-MODIFIED:20220128T153815Z
UID:280-1658448000-1658707199@blestbethegrahams.com
SUMMARY:2022 Graham Family Reunion
DESCRIPTION:
URL:https://blestbethegrahams.com/event/2022-graham-family-reunion/
LOCATION:Hickory Knob State Park\, 1591 Resort Dr\, McCormick\, SC\, 29835\, United States
CATEGORIES:Reunion
END:VEVENT
BEGIN:VEVENT
DTSTART;VALUE=DATE:20200717
DTEND;VALUE=DATE:20200720
DTSTAMP:20260423T142221
CREATED:20200616T150641Z
LAST-MODIFIED:20200616T150641Z
UID:276-1594944000-1595203199@blestbethegrahams.com
SUMMARY:2020 At-Home Reunion
DESCRIPTION:Dear family\, \nThis just might sum it up….. \n               CAN’T \nSTOP \nGRAHAMS \nFROM \nGATHERING\, \nY’ALL! \nNeither snow\, nor rain\, nor heat\, nor gloom of night….nor Coronavirus….can keep us from having our annual reunion!  And if one location won’t work\, another one will\, right?  So\, we’re happy to open our doors at Lake Hartwell for all who feel like coming!  There has been lots of chatter among lots of family about lots of things\, and we want to make sure everyone knows we welcome you with loving & caring arms. \nAs for stuff to do\, there’s active stuff and quiet stuff.  Boating (pontoon\, runabout\, paddle boat)\, swimming (lake\, blow-up baby pools)\, skiing\, tubing\, fishing\, hanging out (on the dock\, in the house\, on the porches & decks\, in the yard)\, games (bocce ball\, cards\, poker\, pool table\, corn hole\, and whatever you bring).  We could even do fireworks\, have a campfire on the beach\, plus something you come up with! \nFor our Saturday night meeting\, if about 45 folks come to the reunion our lake house would work fine for it.  If oodles more come\, it would be best to have a meeting room elsewhere.  On that note\, Kyle visited the several hotels that the ‘reunion committee’ mentioned in their recent email.  They all have meeting spaces and are about 10 minutes away from the lake house.  Of course\, there are many other hotels in the area but they don’t have gathering rooms.  So….since knowing how many people will be attending will help determine the need (or not) for a meeting room\, please RSVP as soon as possible. \nEMAIL thegrahamfamilyreunion@gmail.com to RSVP! \nFor food\, easy is the first word that comes to mind.  Here are some ideas: \n~ Friday night pizza delivered to the lake house; \n~ Saturday breakfast on own at hotels or wherever; \n~ Saturday lunch at lake house (order BBQ?); \n~ Saturday dinner & family meeting:  depending on how many are at the reunion\, either at the lake house (grill burgers & hot dogs?) or reserve a gathering room at a hotel; \n~ Sunday farewell breakfast at Cracker Barrel? \n~ Sides\, desserts\, snacks\, drinks\, etc. provided by everyone.  Several grocery stores are within a short drive from the lake house. \nOther ditties: \n~ Bring whatever you’d like for extra comfort and fun (lawn chairs\, beach towels\, water toys\, beach/water shoes\, hammocks…). \n~ If you have any questions\, please ask. \nHere’s to health and happy times as a family! \nLove\, \nKyle & Carol
URL:https://blestbethegrahams.com/event/2020-at-home-reunion/
LOCATION:SC
CATEGORIES:Reunion
END:VEVENT
BEGIN:VEVENT
DTSTART;VALUE=DATE:20180720
DTEND;VALUE=DATE:20180723
DTSTAMP:20260423T142221
CREATED:20180409T115756Z
LAST-MODIFIED:20180409T115819Z
UID:243-1532044800-1532303999@blestbethegrahams.com
SUMMARY:Family Reunion 2018 - Henry Horton
DESCRIPTION:We have reserved the large conference room for Saturday\, and the smaller shelter for Friday night dinner. \nThere are also 20 rooms blocked at the lodge.  If you would like to book your lodge room\, please use the family code 3795 to be part of our group.
URL:https://blestbethegrahams.com/event/family-reunion-2018/
LOCATION:SC
CATEGORIES:Reunion
END:VEVENT
BEGIN:VEVENT
DTSTART;VALUE=DATE:20170623
DTEND;VALUE=DATE:20170626
DTSTAMP:20260423T142221
CREATED:20151016T072402Z
LAST-MODIFIED:20151016T072423Z
UID:157-1498176000-1498435199@blestbethegrahams.com
SUMMARY:Family Reunion 2017
DESCRIPTION:
URL:https://blestbethegrahams.com/event/family-reunion-2017/
LOCATION:Unicoi Lodge\, 1788 GA-356\, Helen\, GA\, 30545\, United States
CATEGORIES:Reunion
END:VEVENT
BEGIN:VEVENT
DTSTART;VALUE=DATE:20160709
DTEND;VALUE=DATE:20160712
DTSTAMP:20260423T142221
CREATED:20151009T230214Z
LAST-MODIFIED:20151009T230214Z
UID:150-1468022400-1468281599@blestbethegrahams.com
SUMMARY:Family Reunion 2016
DESCRIPTION:
URL:https://blestbethegrahams.com/event/family-reunion-2016/
LOCATION:Henry Horton\, 4209 Nashville Hwy\, Chapel Hill\, TN\, 37034\, United States
CATEGORIES:Reunion
END:VEVENT
END:VCALENDAR